BEGIN:VCALENDAR
VERSION:2.0
PRODID:-//Ligmincha Texas - ECPv6.15.20//NONSGML v1.0//EN
CALSCALE:GREGORIAN
METHOD:PUBLISH
X-WR-CALNAME:Ligmincha Texas
X-ORIGINAL-URL:https://ligminchatexas.org
X-WR-CALDESC:Events for Ligmincha Texas
REFRESH-INTERVAL;VALUE=DURATION:PT1H
X-Robots-Tag:noindex
X-PUBLISHED-TTL:PT1H
BEGIN:VTIMEZONE
TZID:America/Chicago
BEGIN:DAYLIGHT
TZOFFSETFROM:-0600
TZOFFSETTO:-0500
TZNAME:CDT
DTSTART:20240310T080000
END:DAYLIGHT
BEGIN:STANDARD
TZOFFSETFROM:-0500
TZOFFSETTO:-0600
TZNAME:CST
DTSTART:20241103T070000
END:STANDARD
BEGIN:DAYLIGHT
TZOFFSETFROM:-0600
TZOFFSETTO:-0500
TZNAME:CDT
DTSTART:20250309T080000
END:DAYLIGHT
BEGIN:STANDARD
TZOFFSETFROM:-0500
TZOFFSETTO:-0600
TZNAME:CST
DTSTART:20251102T070000
END:STANDARD
BEGIN:DAYLIGHT
TZOFFSETFROM:-0600
TZOFFSETTO:-0500
TZNAME:CDT
DTSTART:20260308T080000
END:DAYLIGHT
BEGIN:STANDARD
TZOFFSETFROM:-0500
TZOFFSETTO:-0600
TZNAME:CST
DTSTART:20261101T070000
END:STANDARD
END:VTIMEZONE
BEGIN:VEVENT
DTSTART;VALUE=DATE:20250312
DTEND;VALUE=DATE:20250317
DTSTAMP:20260420T070535
CREATED:20250119T204336Z
LAST-MODIFIED:20250119T205134Z
UID:10000411-1741737600-1742169599@ligminchatexas.org
SUMMARY:Du Tri Su Training Program
DESCRIPTION:Du Tri Su Training Program \nFrom March 2025 through April 2027\, learn the Du Tri Su Drip Jong\, the Yungdrung Bön Ritual for escorting the consciousness of the deceased through the Bardo. This ritual is from the text: The Lamp that Dispels Darkness: The Practice Manual of the DU TRI SU that Purifies Defilements and Liberates All Beings from the Depths of Samsara \nThe Du Tri Su Drip Jong cycle is a powerful and skillful method of guiding the consciousness of the deceased and protecting that individual from the terrors of the bardo (after death state of the consciousness) experiences. This ritual practice and text stir the depths of samsara and can purify obstacles both for ourselves and for others\, the living and the dead. With proper care and respect\, it can even lead to the attainment of Buddhahood\, or total liberation. When done on behalf of the dead\, this ritual protects the consciousness from wandering in the the bardo realms of the intermediate state. These ancient practices and rituals were taught directly by Buddha Tonpa Shenrab\, and the tradition has been held and practiced continually until the present day. \nThis teaching and training of the Du Tri Su Drip Jong are important for Bön practitioners who would like more support for their own preparations for dying\, as well as for students who want to benefit those who have died. \nOverview\nThis training program will include five 5-day retreats; three retreats will be at Serenity Ridge\, and two will be online. There will also be monthly sessions on Zoom where Geshe Denma Gyaltsen and Khandro Tsering Wangmo Khymsar will be available to support students in between retreats. Join us for this special opportunity to learn a powerful ritual from the ancient Yungdrung Bön tradition. \nTranslation into Spanish: Live simultaneous translation into Spanish will be available for all sessions. \nParticipants Will Learn\n\nThe meaning and purpose of this powerful ritual\nThe preparation for the DU TRI SU ritual making the required tormas (offerings)\nThe core prayers and their meaning\nHow to play the Tibetan ritual instruments used in this ritual\nHow to conduct the ritual and learn the melodies of each ritual section\n\n\nRegister and get more information at: \nhttps://ligmincha.org/centers-usa-serenityridge/\n\n \nGeshe Denma Gyaltsen is the resident lama of Ligmincha Texas. He arrived in Houston in January 2016 to serve as Ligmincha Texas’s first resident lama. \nGeshe Denma was born in northern Nepal. His father brought him to Menri Monastery\, India\, regarded as the mother Bon monastery in exile\, in 1981 to begin his program of study toward the Geshe degree. He received all the Bon teachings\, initiations and transmissions in sutra\, tantra and dzogchen from His Holiness Lungtok Tenpai Nyima Rinpoche\, the 33rd Menri Trizin\, and His Eminence Yongdzin Tenzin Namdak Rinpoche. \nWhen he became a senior student\, he was asked to teach philosophy to younger students. He successfully completed this degree program in 1996 and was awarded the Geshe certificate\, which is considered equivalent to a Ph.D. in Bön Buddhist philosophy and religion. \nGeshe Denma was an accomplished teacher and in 1998 was appointed\, with the approval of the Tibetan government in exile\, first abbot of Zhu Rishing Yungdrung Kundak-Ling Monastery\, a Bon Monastery in Sikkim\, India by His Holiness. He served two terms in this capacity until 2003. In addition\, from the time he graduated until 2008\, Geshe Denma also was active in assisting Geshe Nyima Dakpa with the Bon Children’s Home\, which houses many children in Dolanji\, India\, providing them with food\, healthcare and free education.
URL:https://ligminchatexas.org/event/du-tri-su-training-program/
LOCATION:Serenity Ridge Retreat Center\, 560 Drumheller Ln\, Shipman\, VA\, 22971\, United States
CATEGORIES:Future Events
END:VEVENT
BEGIN:VEVENT
DTSTART;TZID=America/Chicago:20250328T190000
DTEND;TZID=America/Chicago:20250330T153000
DTSTAMP:20260420T070535
CREATED:20250119T201952Z
LAST-MODIFIED:20250330T193404Z
UID:10000410-1743188400-1743348600@ligminchatexas.org
SUMMARY:Awakening the Luminous Mind
DESCRIPTION:AWAKENING THE LUMINOUS MIND\nThe Five-Fold Teaching of Dawa Gyaltsen\nTenzin Wangyal Rinpoche\nJung Center\nRecognizing and welcoming brilliant innate awareness is a treasured life-changing experience worth seeking. Tenzin Wangyal Rinpoche\, founder of Ligmincha Texas and Ligmincha International\, returns to the Jung Center to point out this path through meditation.  Using the poetic Five-Fold Practice of Dawa Gyaltsen\, an 8th-century Tibetan master\, Rinpoche will introduce and guide students to practice and then integrate insight into daily life. He is able to make ancient wisdom accessible through this elegant “pith instruction.” \nFounder and spiritual director of Ligmincha International\, Geshe Tenzin Wangyal Rinpoche is a respected and beloved teacher and meditation master in the Bön Buddhist tradition of Tibet. He has students in more than 25 countries\, teaches around the world and reaches thousands of students through his online programs. Trained as a Bön monk\, Rinpoche now lives as a householder\, allowing him to more fully relate to the needs and concerns of his students. Known for the depth of his wisdom and his unshakeable commitment to helping students recognize their true nature\, he is the author of many books and online courses. \nThis program is being offered both IN-PERSON and ONLINE.  Please select how you plan to attend when registering. \nRegister at the Jung Center with the link below: \nhttps://junghouston.app.neoncrm.com/np/clients/junghouston/eventList.jsp?anotherEvent=&categoryIds=2&topicId=194&eventName=Awakening%20the%20Luminous%20Mind \nRecordings will be distributed to registered participants only\, and will not be available for individual purchase. \nAll times are CT. Please contact onlinelearning@junghouston.org with any questions. \nPlease register early. \n \n\n\nAUCTIONS\nThere is a silent auction\, which is live and can be bid on here: \nhttps://www.zeffy.com/ticketing/ligmincha-texas-incs-2025-silent-auction \nThere will be a Live Auction on Saturday.  See the following link to preview items: \nhttps://www.zeffy.com/ticketing/ligmincha-texas-incs-live-auction \nIf you are interested in an item in the Live Auction\, but cannot attend\, please email BartDelatte@ligminchatexas.org with your max bid and we can bid for you.
URL:https://ligminchatexas.org/event/awakening-the-luminous-mind/
LOCATION:The Jung Center Houston\, 5200 Montrose Blvd.\, Houston\, TX\, 77006\, United States
CATEGORIES:Past Events,Public Talk,Weekend Retreat
ORGANIZER;CN="Ligmincha Texas":MAILTO:info@ligminchatexas.org
END:VEVENT
BEGIN:VEVENT
DTSTART;TZID=America/Chicago:20250419T100000
DTEND;TZID=America/Chicago:20250420T153000
DTSTAMP:20260420T070535
CREATED:20250225T215102Z
LAST-MODIFIED:20250420T202602Z
UID:10000413-1745056800-1745163000@ligminchatexas.org
SUMMARY:21 Manifestations of Sherab Chamma
DESCRIPTION:21 Manifestations of Sherab Chamma\nGeshe Denma Gyaltsen\nApril 19-20\, 2025\n \nSherab Chamma is the Wisdom Loving Mother of all beings and all Buddhas. All Bön deities come through this wise mother. This is a powerful practice for the extreme situations that confront humanity today. There is benefit for everyone\, bringing personal and global healing to fears\, suffering\, sickness\, and obstacles. \nThis retreat will enable all practitioners to awaken the unbounded wisdom of the Loving Mother to manifest inner transformation and joy. Participants will receive transmission from Geshe Denma. He invites us to ask questions and provides ample time for this. Please join us for a heart-felt retreat of connection and practice. \nIn many cultures\, primordial female energy is seen as the origin of existence and the source of wisdom\, love\, and compassion. The ancient Bön Buddhist tradition offers many methods for retrieving and connecting with this divine\nfeminine energy\, supporting the practitioner to abide in innate wisdom and the love and compassion that radiate from that wisdom. The teachings of Sherab Chamma comprise one of the most important tantric cycles of Bön. \nIn the 21 Manifestations of Sherab Chamma\, each deity and their corresponding 4-sentence prayer will be taught to deepen our understanding and access to these aspects of divine feminine energy. \n\nSchedule – Saturday and Sunday CST \n\n\n\nSession 1\n10:00-11:15 am\n\n\nBreak\n11:15-11:30 am\n\n\nSession 2\n11:30-12:30 pm\n\n\nMeal Break\n12:30-2:00 pm\n\n\nSession 3\n2:00-3:30 pm\n\n\n\n\nRetreat teachings and practices will be taught in English. \nLive translation will be available in Spanish and Russian. \nWritten translations will be available in Spanish\, Portuguese\, and Russian. \n\nREGISTRATION: \nComplete payment below.  After payment is complete\, you will receive an email with links to the Zoom Registration and the Handouts.  All recordings will be made available to registered participants after the retreat is over at the same link as the Handouts. \nThere is early bird pricing available until noon the Saturday before the retreat. \nFinancial hardship need not prevent practitioners from attending Zoom teachings.  If you need assistance\, please inquire about available scholarships by emailing info@ligminchatexas.org.  This must be done at least 1 week prior to the retreat.\nWe have switched to using Zeffy.  This allows us to keep 100% of your donations and registrations\, as Zeffy does not charge us any payment processing fees.  They do\, however\, ask you to make a donation to them.  If you would prefer not to donate to Zeffy\, in the Donation Box at the bottom\, select “Other” from the Drop Down Box that is prefilled with a percentage and dollar amount \, and leave the Contribution Box empty. \n\n\n \nGeshe Denma Gyaltsen is the resident lama of Ligmincha Texas. He arrived in Houston in January 2016 to serve as Ligmincha Texas’s first resident lama. \nGeshe Denma was born in northern Nepal. His father brought him to Menri Monastery\, India\, regarded as the mother Bon monastery in exile\, in 1981 to begin his program of study toward the Geshe degree. He received all the Bon teachings\, initiations and transmissions in sutra\, tantra and dzogchen from His Holiness Lungtok Tenpai Nyima Rinpoche\, the 33rd Menri Trizin\, and His Eminence Yongdzin Tenzin Namdak Rinpoche. \nWhen he became a senior student\, he was asked to teach philosophy to younger students. He successfully completed this degree program in 1996 and was awarded the Geshe certificate\, which is considered equivalent to a Ph.D. in Bön Buddhist philosophy and religion. \nGeshe Denma was an accomplished teacher and in 1998 was appointed\, with the approval of the Tibetan government in exile\, first abbot of Zhu Rishing Yungdrung Kundak-Ling Monastery\, a Bon Monastery in Sikkim\, India by His Holiness. He served two terms in this capacity until 2003. In addition\, from the time he graduated until 2008\, Geshe Denma also was active in assisting Geshe Nyima Dakpa with the Bon Children’s Home\, which houses many children in Dolanji\, India\, providing them with food\, healthcare and free education.
URL:https://ligminchatexas.org/event/21-manifestations-of-sherab-chamma/
LOCATION:Ligmincha Texas Center & Online via Zoom\, 5316 Bellaire Blvd\, Bellaire\, TX\, 77401\, United States
CATEGORIES:Past Events,Weekend Retreat
ORGANIZER;CN="Ligmincha Texas":MAILTO:info@ligminchatexas.org
END:VEVENT
END:VCALENDAR