BEGIN:VCALENDAR
VERSION:2.0
PRODID:-//Ligmincha Texas - ECPv6.15.20//NONSGML v1.0//EN
CALSCALE:GREGORIAN
METHOD:PUBLISH
X-WR-CALNAME:Ligmincha Texas
X-ORIGINAL-URL:https://ligminchatexas.org
X-WR-CALDESC:Events for Ligmincha Texas
REFRESH-INTERVAL;VALUE=DURATION:PT1H
X-Robots-Tag:noindex
X-PUBLISHED-TTL:PT1H
BEGIN:VTIMEZONE
TZID:America/Chicago
BEGIN:DAYLIGHT
TZOFFSETFROM:-0600
TZOFFSETTO:-0500
TZNAME:CDT
DTSTART:20230312T080000
END:DAYLIGHT
BEGIN:STANDARD
TZOFFSETFROM:-0500
TZOFFSETTO:-0600
TZNAME:CST
DTSTART:20231105T070000
END:STANDARD
BEGIN:DAYLIGHT
TZOFFSETFROM:-0600
TZOFFSETTO:-0500
TZNAME:CDT
DTSTART:20240310T080000
END:DAYLIGHT
BEGIN:STANDARD
TZOFFSETFROM:-0500
TZOFFSETTO:-0600
TZNAME:CST
DTSTART:20241103T070000
END:STANDARD
BEGIN:DAYLIGHT
TZOFFSETFROM:-0600
TZOFFSETTO:-0500
TZNAME:CDT
DTSTART:20250309T080000
END:DAYLIGHT
BEGIN:STANDARD
TZOFFSETFROM:-0500
TZOFFSETTO:-0600
TZNAME:CST
DTSTART:20251102T070000
END:STANDARD
END:VTIMEZONE
BEGIN:VEVENT
DTSTART;TZID=America/Chicago:20240308T190000
DTEND;TZID=America/Chicago:20240308T200000
DTSTAMP:20260419T180205
CREATED:20231220T000622Z
LAST-MODIFIED:20241122T222530Z
UID:10000393-1709924400-1709928000@ligminchatexas.org
SUMMARY:The Melody of Light Poetry with Geshe Tenzin Wangyal Rinpoche - Friday Talk
DESCRIPTION:The Melody of Spiritual Songs Soars through the World Along the Path of Light\, Rinpoche’s recent poetry book\, was published in Tibetan only in 2023. This beautiful poetry teaches us through Rinpoche’s personal experience the nature of life\, practice\, and living. In this special evening\, Rinpoche will share his poetry in English for the first time. The public talk will be in English with simultaneous live audio translation via Zoom in Spanish\, Russian and potentially other languages. \nJoin us in this unique and special opportunity!\nPlease register through the Jung Center at the link below. \nhttps://junghouston.app.neoncrm.com/np/clients/junghouston/event.jsp?event=10878
URL:https://ligminchatexas.org/event/melody-of-luminous-poetry-with-geshe-tenzin-wangyal-rinpoche-friday-talk-2/
LOCATION:The Jung Center Houston\, 5200 Montrose Blvd.\, Houston\, TX\, 77006\, United States
CATEGORIES:Past Events,Public Talk
ORGANIZER;CN="Ligmincha Texas":MAILTO:info@ligminchatexas.org
END:VEVENT
END:VCALENDAR