BEGIN:VCALENDAR
VERSION:2.0
PRODID:-//Ligmincha Texas - ECPv6.15.20//NONSGML v1.0//EN
CALSCALE:GREGORIAN
METHOD:PUBLISH
X-ORIGINAL-URL:https://ligminchatexas.org
X-WR-CALDESC:Events for Ligmincha Texas
REFRESH-INTERVAL;VALUE=DURATION:PT1H
X-Robots-Tag:noindex
X-PUBLISHED-TTL:PT1H
BEGIN:VTIMEZONE
TZID:America/Chicago
BEGIN:DAYLIGHT
TZOFFSETFROM:-0600
TZOFFSETTO:-0500
TZNAME:CDT
DTSTART:20220313T080000
END:DAYLIGHT
BEGIN:STANDARD
TZOFFSETFROM:-0500
TZOFFSETTO:-0600
TZNAME:CST
DTSTART:20221106T070000
END:STANDARD
BEGIN:DAYLIGHT
TZOFFSETFROM:-0600
TZOFFSETTO:-0500
TZNAME:CDT
DTSTART:20230312T080000
END:DAYLIGHT
BEGIN:STANDARD
TZOFFSETFROM:-0500
TZOFFSETTO:-0600
TZNAME:CST
DTSTART:20231105T070000
END:STANDARD
BEGIN:DAYLIGHT
TZOFFSETFROM:-0600
TZOFFSETTO:-0500
TZNAME:CDT
DTSTART:20240310T080000
END:DAYLIGHT
BEGIN:STANDARD
TZOFFSETFROM:-0500
TZOFFSETTO:-0600
TZNAME:CST
DTSTART:20241103T070000
END:STANDARD
END:VTIMEZONE
BEGIN:VEVENT
DTSTART;TZID=America/Chicago:20230211T100000
DTEND;TZID=America/Chicago:20230212T170000
DTSTAMP:20260423T191114
CREATED:20230112T234619Z
LAST-MODIFIED:20230215T150212Z
UID:10000379-1676109600-1676221200@ligminchatexas.org
SUMMARY:Tibetan Dream Yoga:  Awake While Dreaming with Geshe Tenzin Wangyal Rinpoche!
DESCRIPTION:How do we make distinctions between dreaming\, deep sleep\, and being awake? Is there a way to experience the differences – and similarities – between these three states? Explore your dreams in this weekend retreat with Tibetan Bön Master and founder of Ligmincha Texas and Ligmincha International\, Geshe Tenzin Wangyal Rinpoche!\n\n\nThe Jung Center’s Executive Director\, Sean Fitzpatrick\, will join Rinpoche for a Friday evening talk and conversation about dreaming from both the Tibetan and Jungian perspectives.\n\n\nThen\, retreat into practice and teaching with Rinpoche for the weekend\, and invite an experience of the thread connecting our sleeping\, dreaming\, and waking consciousnesses. All are forms of awareness that can be experienced as a continuum – and can also manifest as a constant awareness called the “natural state.” Rinpoche will focus on dream practice\, explaining the underlying concepts and teaching methods of inviting the experience of the natural state.\n\n\nJoin The Jung Center and our friends at Ligmincha Texas as we discover how connecting to our unchanging selves in the midst of these alternating states can open the way to profound transformations of our minds\, hearts\, and lives. All are welcome!\n\n\nThere is a separate registration for in-person and Zoom participation. A separate registration link is also available for the Friday night session only. The Full weekend registration includes the Friday night event.\n\n\nFor in-person attendees\, Rinpoche’s newest revised and updated version of his book\, Tibetan Yogas of Dream and Sleep will be available to purchase and for a book signing following the Friday evening talk.\n\n\nLive audio translations (Spanish\, Portuguese\, and Russian) will be available.\n\nPlease register through the Jung center at the links below. \nFriday In Person\nFriday On Line \nFull Weekend In Person\nFull Weekend On line \nOnline Auction\nhttps://www.charityauctionstoday.com/auctions/2023-ligmincha-texas-auction-36030 \nLive Auction Items Preview\nhttps://ligminchatexas.org/2023-live-auction-items/
URL:https://ligminchatexas.org/event/tibetan-dream-yoga-awake-while-dreaming/
LOCATION:The Jung Center Houston\, 5200 Montrose Blvd.\, Houston\, TX\, 77006\, United States
CATEGORIES:Past Events,Public Talk,Weekend Retreat
ORGANIZER;CN="Ligmincha Texas":MAILTO:info@ligminchatexas.org
END:VEVENT
END:VCALENDAR