BEGIN:VCALENDAR
VERSION:2.0
PRODID:-//Ligmincha Texas - ECPv6.15.20//NONSGML v1.0//EN
CALSCALE:GREGORIAN
METHOD:PUBLISH
X-ORIGINAL-URL:https://ligminchatexas.org
X-WR-CALDESC:Events for Ligmincha Texas
REFRESH-INTERVAL;VALUE=DURATION:PT1H
X-Robots-Tag:noindex
X-PUBLISHED-TTL:PT1H
BEGIN:VTIMEZONE
TZID:America/Chicago
BEGIN:DAYLIGHT
TZOFFSETFROM:-0600
TZOFFSETTO:-0500
TZNAME:CDT
DTSTART:20210314T080000
END:DAYLIGHT
BEGIN:STANDARD
TZOFFSETFROM:-0500
TZOFFSETTO:-0600
TZNAME:CST
DTSTART:20211107T070000
END:STANDARD
BEGIN:DAYLIGHT
TZOFFSETFROM:-0600
TZOFFSETTO:-0500
TZNAME:CDT
DTSTART:20220313T080000
END:DAYLIGHT
BEGIN:STANDARD
TZOFFSETFROM:-0500
TZOFFSETTO:-0600
TZNAME:CST
DTSTART:20221106T070000
END:STANDARD
BEGIN:DAYLIGHT
TZOFFSETFROM:-0600
TZOFFSETTO:-0500
TZNAME:CDT
DTSTART:20230312T080000
END:DAYLIGHT
BEGIN:STANDARD
TZOFFSETFROM:-0500
TZOFFSETTO:-0600
TZNAME:CST
DTSTART:20231105T070000
END:STANDARD
END:VTIMEZONE
BEGIN:VEVENT
DTSTART;TZID=America/Chicago:20221105T100000
DTEND;TZID=America/Chicago:20221106T150000
DTSTAMP:20260424T000934
CREATED:20220905T170144Z
LAST-MODIFIED:20240127T045513Z
UID:10000378-1667642400-1667746800@ligminchatexas.org
SUMMARY:Awakening the Heart of Service: A Meditation Retreat with the Five Warrior Syllables with Special Guest Teacher Marcy Vaughn
DESCRIPTION:Awakening the Heart of Service: A\nMeditation Retreat with the Five Warrior\nSyllables\nwith Marcy Vaughn \nNovember 5-6\, 2022 \nThe five Warrior Syllable practice describes a clear path from openness to\naction. Please join Marcy in a meditation retreat to explore our inherent\ncapacity to transform confusion into wisdom and to awaken the inspiration\nto bring benefit to oneself and to others through our actions. \n“The reason these seed syllables are called warriors is because they are powerful and indestructible. They are associated with the Five Wisdoms—and it is wisdom that is able to penetrate fear and ignorance to cut the roots of samsara.” —Tenzin Wangyal Rinpoche\n\nComplete payment through PayPal by clicking the Register button below. \nIMPORTANT:  After payment is completed\, you will be brought back to the Ligmincha Texas website.  This may take 10-40 seconds. \nIMPORTANT: If you are not returned to the Ligmincha Texas website after 1 minute\, go to the bottom of the page and click where it says “Return to Ligmincha Texas\, Inc.” \nIMPORTANT: If\, you are not returned to the Ligmincha Texas website and clicking “Return to Ligmincha Texas\, Inc.” does not work\, email us at info@ligminchatexas.org.  Do not wait until the day of the retreat. \nAfter returning to Ligmincha Texas website\,  you will 1) get the link to the Retreat Handouts & Recordings (SAVE THE LINK)\, and 2) get the Zoom Registration Link. You must follow the Zoom Registration Link and fill out the form to register. After you are registered with Zoom\, a confirmation email will be sent to you by Zoom that includes your personal link to join the retreat. \nDownload the free Zoom app in advance of the retreat by going to https://zoom.us/download \nRetreat teachings and practices will be taught in English. \nLive translation will be available in Spanish\, and Portuguese. \nWritten translations will be available in Spanish\, Portuguese\, and German. \nAll recordings will be made available to registered participants. \nZOOM REGISTRATION: \nRegistrants can choose the following options: $75\, $100\, and $125. There is also an option to enter a greater or lesser amount.  Financial hardship need not prevent practitioners from attending teachings.  If your situation warrants it\, please pay any amount you can comfortably afford by typing that in the box that says “Other Amount”. \nZoom Registration Register \nFor questions or more information\, contact us at info@ligminchatexas.org \nJoyful Practice of Ancient Bön Teachings for Living Well\n\nMarcy Vaughn has been a practitioner of Tibetan Buddhism for more than forty- five years and is a senior student of Bon Buddhist master Geshe Tenzin Wangyal Rinpoche. Marcy was in the first graduating class of the master’s program in contemplative psychotherapy at Naropa University and is currently a therapist in private practice in Bryn Mawr\, Pennsylvania. She works in close collaboration with Tenzin Rinpoche and has edited his books Tibetan Sound Healing\, Awakening the Sacred Body\, Awakening the Luminous Mind\, and Spontaneous Creativity. She is a teacher for both Ligmincha Institute and a senior teacher for The 3 Doors\, where she designed and teaches the Compassion Project with her husband\, Gabriel Rocco. Marcy is the main practice leader for retreats by Geshe Tenzin Wangyal Rinpoche at Serenity Ridge in Virginia.
URL:https://ligminchatexas.org/event/awakening-the-heart-of-service-a-meditation-retreat-with-the-five-warrior-syllables/
LOCATION:Zoom\, United States
CATEGORIES:Past Events,Weekend Retreat
ORGANIZER;CN="Ligmincha Texas":MAILTO:info@ligminchatexas.org
END:VEVENT
END:VCALENDAR