BEGIN:VCALENDAR
VERSION:2.0
PRODID:-//Ligmincha Texas - ECPv6.15.20//NONSGML v1.0//EN
CALSCALE:GREGORIAN
METHOD:PUBLISH
X-ORIGINAL-URL:https://ligminchatexas.org
X-WR-CALDESC:Events for Ligmincha Texas
REFRESH-INTERVAL;VALUE=DURATION:PT1H
X-Robots-Tag:noindex
X-PUBLISHED-TTL:PT1H
BEGIN:VTIMEZONE
TZID:America/Chicago
BEGIN:DAYLIGHT
TZOFFSETFROM:-0600
TZOFFSETTO:-0500
TZNAME:CDT
DTSTART:20220313T080000
END:DAYLIGHT
BEGIN:STANDARD
TZOFFSETFROM:-0500
TZOFFSETTO:-0600
TZNAME:CST
DTSTART:20221106T070000
END:STANDARD
BEGIN:DAYLIGHT
TZOFFSETFROM:-0600
TZOFFSETTO:-0500
TZNAME:CDT
DTSTART:20230312T080000
END:DAYLIGHT
BEGIN:STANDARD
TZOFFSETFROM:-0500
TZOFFSETTO:-0600
TZNAME:CST
DTSTART:20231105T070000
END:STANDARD
BEGIN:DAYLIGHT
TZOFFSETFROM:-0600
TZOFFSETTO:-0500
TZNAME:CDT
DTSTART:20240310T080000
END:DAYLIGHT
BEGIN:STANDARD
TZOFFSETFROM:-0500
TZOFFSETTO:-0600
TZNAME:CST
DTSTART:20241103T070000
END:STANDARD
END:VTIMEZONE
BEGIN:VEVENT
DTSTART;TZID=America/Chicago:20230722T100000
DTEND;TZID=America/Chicago:20230723T153000
DTSTAMP:20260423T053155
CREATED:20230508T025907Z
LAST-MODIFIED:20230805T152547Z
UID:10000385-1690020000-1690126200@ligminchatexas.org
SUMMARY:Enhancing Your Life-Force with Breath with Alejandro Chaoul
DESCRIPTION:Enhancing Your Life-Force with Breath:\nBringing Rainbows into Your Life\nwith Alejandro Chaoul\nJuly 22-23\, 2023\nEnhancing Your Life-force with Breath: Bringing Rainbows into Your Life \nThe ancient Tibetan Bön spiritual tradition is rooted in its connection to the five elements\, and the wisdom breath that supports our life-force. \nIn this weekend\, we will explore the life-force breath that can retrieve and reconnect us with the power of the five elements. \nAlejandro will Instruct us in: \n\nSecuring a Boundary\, a practice that helps us build an energetic support and trust more the boundless support of our inner space.\nThe Nine Breathings of Purification\, to clear our anger\, attachment and confusion and reconnect to the core space of our central channel.\nThe Life-force Tsa Lung practice and its connections to the retrieval of the elements into the space of our mind-heart.\nHow to stay connected to what we cultivate in these meditations into the space of our True Source of Healing—following Tenzin Wangyal Rinpoche’s book.\n\nJoin us! \n\nSchedule – Saturday and Sunday CDT \nSession 1         10:00-11:15 am\nBreak               11:15-12:30 am\nSession 2         11:30 am- 12:30 pm\nMeal Break      12:30-2:00 pm\nSession 3         2:00 -3:30 pm\n\nComplete payment through PayPal by clicking the Register button below. \nIMPORTANT:  After payment is completed\, you will be brought back to the Ligmincha Texas website.  This may take 10-40 seconds. \nIMPORTANT: If you are not returned to the Ligmincha Texas website after 1 minute\, go to the bottom of the page and click where it says “Return to Ligmincha Texas\, Inc.” \nIMPORTANT: If\, you are not returned to the Ligmincha Texas website and clicking “Return to Ligmincha Texas\, Inc.” does not work\, email us at info@ligminchatexas.org.  Do not wait until the day of the retreat. \nAfter returning to Ligmincha Texas website\,  you will 1) get the link to the Retreat Handouts & Recordings (SAVE THE LINK)\, and 2) get the Zoom Registration Link. You must follow the Zoom Registration Link and fill out the form to register. After you are registered with Zoom\, a confirmation email will be sent to you from Zoom that includes your personal link to join the retreat.  This does not come from Ligmincha Texas – it comes from Zoom. \nDownload the free Zoom app in advance of the retreat by going to https://zoom.us/download \nRetreat teachings and practices will be taught in English. \nLive translation will be available in Spanish\, Portuguese\, Hungarian\, and Russian.. \nAll recordings will be made available to registered participants. \nZOOM REGISTRATION: \nRegistrants can choose the following options: $75\, $100\, and $125. There is also an option to enter a greater or lesser amount.  Financial hardship need not prevent practitioners from attending teachings.  If your situation warrants it\, please pay any amount you can comfortably afford by typing that in the box that says “Other Amount”. \nZoom Registration Register \nIN PERSON ON SITE REGISTRATION: \nThe Ligmincha Texas Board and Officers encourage all participants to take healthy actions to protect themselves and others when in close proximity to one another and to accord welcome and courtesy to those whose choices differ from their own. Thanks to all for being mindful. \nLigmincha Texas\, Inc. is making reasonable efforts to prevent the spread of disease and is following CDC guidelines.  Attendee understands that the infection rate for COVID continues to fluctuate and that these policies may change to better reflect CDC guidelines in regard to the prevention of contracting Covid-19. Attendee agrees to abide by whatever Ligmincha Texas guidelines are at this retreat.  By registering below\, the attendee agrees to waive right to bring any claims\, including claims of negligence\, against Ligmincha Texas\, Inc. related to exposure and/or infection by the COVID virus. \nHandouts will not be provided on site.  You must print out the handouts before hand from the link to the Google Drive folder that will be provided after successful registration\, and bring your handouts with you. \nRegistrants can choose the following options: $75\, $100\, and $125. \nIn Person Registration $75 Register \nIn Person Registration $100 Register \nIn Person Registration $125 Register \nFor questions or more information\, contact us at info@ligminchatexas.org \nJoyful Practice of Ancient Bön Teachings for Living Well\n\n \nFounding Director – Jung Center’s Mind Body Spirit Institute\nAdjunct Faculty – Integrative Medicine Program Department of Palliative\, Rehabilitation & Integrative Medicine MD Anderson Cancer Center\nAdjunct Faculty – McGovern Center for Humanities and Ethics McGovern Medical School\, UT Health\nInstructor – Rice University Glasscock School of Continuing Studies\, aster of Liberal Studies program\nInstructor – University of Maryland\, Baltimore\, Masters in Integrative Medicine \nDr. Chaoul is the Huffington Foundation Endowed Director of the Mind Body Spirit Institute at the Jung Center of Houston\, bringing a new approach for helping healthcare professionals flourish by reducing stress and burnout\, and improving health\, resilience and nourish the human spirit. \nHe holds a PhD in Tibetan religions from Rice University\, and has studied in the Tibetan tradition since 1989\, and for almost 30 years with Yongdzin Tenzin Namdak and Tenzin Wangyal Rinpoche\, completing the 7-year training at Ligmincha Institute in 2000\, and also training in Triten Norbutse monastery in Nepal and Menri monastery in India. \nAlejandro is a Senior Teacher of The 3 Doors\, an international organization founded by Tenzin Wangyal Rinpoche with the goal of transforming lives through meditation\, and since 1995\, he has been teaching meditation classes and Tibetan Yoga (Tsa Lung & Trul Khor) workshops nationally and internationally under the auspices of Ligmincha International. \nIn 1999 he began teaching these techniques at the Integrative Medicine Program of the M.D. Anderson Cancer Center in Houston\, TX\, where he holds an adjunct faculty position and for the last twenty years has conducted research on the effect of these practices in people with cancer and their caregivers. He is also an adjunct faculty member at The University of Texas’ McGovern Center for Humanities and Ethics\, where he teaches medical students in the areas of spirituality\, complementary and integrative medicine\, and end-of-life care. In addition he is an Instructor at Rice University’s Glasscock School of Continuing Studies Master of Liberal Studies program and an at The University of Maryland\, Baltimore\, Masters in Integrative Medicine. \nIn addition\, he is an advisor to The Rothko Chapel and past board member of The Boniuk Center for Religious Tolerance at Rice University\, and founding member of Compassionate Houston. His research and publications focus on mind-body practices in integrative care\, examining how these practices can reduce chronic stress\, anxiety and sleep disorders and improve quality of life. He is the author of Chod Practice in the Bon Tradition (SnowLion\, 2009)\, Tibetan Yoga for Health and Wellbeing (Hay House\, 2018)\, and Tibetan Yoga: Magical Movements of Body\, Breath & Mind (Wisdom Publications\, 2021). He has published in the area of religion and medicine\, medical anthropology and the interface of spirituality and healing. Dr. Chaoul has been recognized as a Fellow at the Mind & Life Institute.
URL:https://ligminchatexas.org/event/enhancing-your-life-force-with-breath/
LOCATION:Ligmincha Texas Center & Online via Zoom\, 5316 Bellaire Blvd\, Bellaire\, TX\, 77401\, United States
CATEGORIES:Past Events,Weekend Retreat
ORGANIZER;CN="Ligmincha Texas":MAILTO:info@ligminchatexas.org
END:VEVENT
END:VCALENDAR